BEGIN:VCALENDAR
VERSION:2.0
PRODID:-//FannyDoutaz.ch - ECPv6.15.20//NONSGML v1.0//EN
CALSCALE:GREGORIAN
METHOD:PUBLISH
X-WR-CALNAME:FannyDoutaz.ch
X-ORIGINAL-URL:https://fannydoutaz.ch
X-WR-CALDESC:Évènements pour FannyDoutaz.ch
REFRESH-INTERVAL;VALUE=DURATION:PT1H
X-Robots-Tag:noindex
X-PUBLISHED-TTL:PT1H
BEGIN:VTIMEZONE
TZID:Europe/Zurich
BEGIN:DAYLIGHT
TZOFFSETFROM:+0100
TZOFFSETTO:+0200
TZNAME:CEST
DTSTART:20220327T010000
END:DAYLIGHT
BEGIN:STANDARD
TZOFFSETFROM:+0200
TZOFFSETTO:+0100
TZNAME:CET
DTSTART:20221030T010000
END:STANDARD
BEGIN:DAYLIGHT
TZOFFSETFROM:+0100
TZOFFSETTO:+0200
TZNAME:CEST
DTSTART:20230326T010000
END:DAYLIGHT
BEGIN:STANDARD
TZOFFSETFROM:+0200
TZOFFSETTO:+0100
TZNAME:CET
DTSTART:20231029T010000
END:STANDARD
BEGIN:DAYLIGHT
TZOFFSETFROM:+0100
TZOFFSETTO:+0200
TZNAME:CEST
DTSTART:20240331T010000
END:DAYLIGHT
BEGIN:STANDARD
TZOFFSETFROM:+0200
TZOFFSETTO:+0100
TZNAME:CET
DTSTART:20241027T010000
END:STANDARD
END:VTIMEZONE
BEGIN:VEVENT
DTSTART;TZID=Europe/Zurich:20230630T150000
DTEND;TZID=Europe/Zurich:20230702T160000
DTSTAMP:20260421T113954
CREATED:20230531T085529Z
LAST-MODIFIED:20230531T085529Z
UID:7254-1688137200-1688313600@fannydoutaz.ch
SUMMARY:STT - Camp de préparation au CEJ
DESCRIPTION:30.06.-02.07.2023-TL-Vorb.-JEM-Prilly
URL:https://fannydoutaz.ch/evenement/stt-camp-de-preparation-au-cej-4/
LOCATION:Vaudoise Arena\, Chemin du Viaduc 14\, Prilly\, 1008\, Suisse
CATEGORIES:Stage
ATTACH;FMTTYPE=image/png:https://fannydoutaz.ch/siteweb/wp-content/uploads/Logo-STT.png
ORGANIZER;CN="STT":MAILTO:info@swisstabletennis.ch
END:VEVENT
BEGIN:VEVENT
DTSTART;TZID=Europe/Zurich:20230707T150000
DTEND;TZID=Europe/Zurich:20230709T160000
DTSTAMP:20260421T113954
CREATED:20230531T085222Z
LAST-MODIFIED:20230531T085222Z
UID:7250-1688742000-1688918400@fannydoutaz.ch
SUMMARY:STT - Camp de préparation au CEJ
DESCRIPTION:07.-09.07.2023-TL-Vorb.-JEM-Filzbach
URL:https://fannydoutaz.ch/evenement/stt-camp-de-preparation-au-cej-3/
LOCATION:Sportzentrum Kerenzeberg\, Panoramastrasse 8\, Filzbach\, 8757\, Suisse
CATEGORIES:Stage
ATTACH;FMTTYPE=image/png:https://fannydoutaz.ch/siteweb/wp-content/uploads/Logo-STT.png
ORGANIZER;CN="STT":MAILTO:info@swisstabletennis.ch
END:VEVENT
BEGIN:VEVENT
DTSTART;VALUE=DATE:20230713
DTEND;VALUE=DATE:20230723
DTSTAMP:20260421T113954
CREATED:20230531T135114Z
LAST-MODIFIED:20230618T072827Z
UID:7258-1689206400-1690070399@fannydoutaz.ch
SUMMARY:Championnat d'Europe jeunesse 2023
DESCRIPTION:13.-22.07.2023-Jugend-EM-Gliwice \nOrlen_2023_EuropeanYouthChampionships_Prospectus
URL:https://fannydoutaz.ch/evenement/championnat-deurope-jeunesse-2023/
LOCATION:Arena Gliwice\, Akademicka 50 street\, Gliwice\, 44-100\, Pologne
CATEGORIES:Compétition
ATTACH;FMTTYPE=image/jpeg:https://fannydoutaz.ch/siteweb/wp-content/uploads/ETTU-Logo.jpg
ORGANIZER;CN="STT":MAILTO:info@swisstabletennis.ch
END:VEVENT
END:VCALENDAR