BEGIN:VCALENDAR
VERSION:2.0
PRODID:-//FannyDoutaz.ch - ECPv6.15.20//NONSGML v1.0//EN
CALSCALE:GREGORIAN
METHOD:PUBLISH
X-ORIGINAL-URL:https://fannydoutaz.ch
X-WR-CALDESC:Évènements pour FannyDoutaz.ch
REFRESH-INTERVAL;VALUE=DURATION:PT1H
X-Robots-Tag:noindex
X-PUBLISHED-TTL:PT1H
BEGIN:VTIMEZONE
TZID:Europe/Zurich
BEGIN:DAYLIGHT
TZOFFSETFROM:+0100
TZOFFSETTO:+0200
TZNAME:CEST
DTSTART:20250330T010000
END:DAYLIGHT
BEGIN:STANDARD
TZOFFSETFROM:+0200
TZOFFSETTO:+0100
TZNAME:CET
DTSTART:20251026T010000
END:STANDARD
BEGIN:DAYLIGHT
TZOFFSETFROM:+0100
TZOFFSETTO:+0200
TZNAME:CEST
DTSTART:20260329T010000
END:DAYLIGHT
BEGIN:STANDARD
TZOFFSETFROM:+0200
TZOFFSETTO:+0100
TZNAME:CET
DTSTART:20261025T010000
END:STANDARD
BEGIN:DAYLIGHT
TZOFFSETFROM:+0100
TZOFFSETTO:+0200
TZNAME:CEST
DTSTART:20270328T010000
END:DAYLIGHT
BEGIN:STANDARD
TZOFFSETFROM:+0200
TZOFFSETTO:+0100
TZNAME:CET
DTSTART:20271031T010000
END:STANDARD
END:VTIMEZONE
BEGIN:VEVENT
DTSTART;VALUE=DATE:20260126
DTEND;VALUE=DATE:20260130
DTSTAMP:20260421T131414
CREATED:20260103T090729Z
LAST-MODIFIED:20260121T180705Z
UID:8804-1769385600-1769731199@fannydoutaz.ch
SUMMARY:WTT Feeder Lille 2026
DESCRIPTION:20260126_convocation_LILLE
URL:https://fannydoutaz.ch/evenement/wtt-feeder-lille-2026/
LOCATION:Palais des sport Saint-Sauveur\, Avenue du Président John Fitzgerald Kennedy 78\, Lille\, 59800\, France
CATEGORIES:Compétition
ATTACH;FMTTYPE=image/jpeg:https://fannydoutaz.ch/siteweb/wp-content/uploads/WTT-Feeder-lille-2026.jpg
ORGANIZER;CN="STT":MAILTO:info@swisstabletennis.ch
END:VEVENT
END:VCALENDAR