BEGIN:VCALENDAR
VERSION:2.0
PRODID:-//FannyDoutaz.ch - ECPv6.15.20//NONSGML v1.0//EN
CALSCALE:GREGORIAN
METHOD:PUBLISH
X-WR-CALNAME:FannyDoutaz.ch
X-ORIGINAL-URL:https://fannydoutaz.ch
X-WR-CALDESC:Évènements pour FannyDoutaz.ch
REFRESH-INTERVAL;VALUE=DURATION:PT1H
X-Robots-Tag:noindex
X-PUBLISHED-TTL:PT1H
BEGIN:VTIMEZONE
TZID:Europe/Zurich
BEGIN:DAYLIGHT
TZOFFSETFROM:+0100
TZOFFSETTO:+0200
TZNAME:CEST
DTSTART:20230326T010000
END:DAYLIGHT
BEGIN:STANDARD
TZOFFSETFROM:+0200
TZOFFSETTO:+0100
TZNAME:CET
DTSTART:20231029T010000
END:STANDARD
BEGIN:DAYLIGHT
TZOFFSETFROM:+0100
TZOFFSETTO:+0200
TZNAME:CEST
DTSTART:20240331T010000
END:DAYLIGHT
BEGIN:STANDARD
TZOFFSETFROM:+0200
TZOFFSETTO:+0100
TZNAME:CET
DTSTART:20241027T010000
END:STANDARD
BEGIN:DAYLIGHT
TZOFFSETFROM:+0100
TZOFFSETTO:+0200
TZNAME:CEST
DTSTART:20250330T010000
END:DAYLIGHT
BEGIN:STANDARD
TZOFFSETFROM:+0200
TZOFFSETTO:+0100
TZNAME:CET
DTSTART:20251026T010000
END:STANDARD
END:VTIMEZONE
BEGIN:VEVENT
DTSTART;VALUE=DATE:20241106
DTEND;VALUE=DATE:20241110
DTSTAMP:20260422T143452
CREATED:20240908T093925Z
LAST-MODIFIED:20241013T071352Z
UID:8111-1730851200-1731196799@fannydoutaz.ch
SUMMARY:WTT Youth Contender Lignano (ITA)
DESCRIPTION:06.-09.11.2024 - WTT Youth Contender Lignano (ITA) - Girls\nLignano_YC_Prospectus_2024
URL:https://fannydoutaz.ch/evenement/wtt-youth-contender-lignano-ita-2/
LOCATION:Palazzetto dello sport\, Viale Centrale 29\, Lignano\, 33054\, Italy
CATEGORIES:Compétition
ATTACH;FMTTYPE=image/png:https://fannydoutaz.ch/siteweb/wp-content/uploads/WTT-LIGNANO-2024.png
END:VEVENT
BEGIN:VEVENT
DTSTART;TZID=Europe/Zurich:20241123T120000
DTEND;TZID=Europe/Zurich:20241123T180000
DTSTAMP:20260422T143452
CREATED:20241104T134140Z
LAST-MODIFIED:20241104T134140Z
UID:8259-1732363200-1732384800@fannydoutaz.ch
SUMMARY:Championnats AGTT individuel Elite
DESCRIPTION:Séries à définir…\nInfos sur le site AGTT
URL:https://fannydoutaz.ch/evenement/championnats-agtt-individuel-elite-2/
LOCATION:Ecole Aimée-Stitelmann\, route de Base 24\, Plan-les-Ouates\, 1228\, Suisse
CATEGORIES:Compétition
ATTACH;FMTTYPE=image/jpeg:https://fannydoutaz.ch/siteweb/wp-content/uploads/Logo-AGTT-balle-au-centre-de-la-raquette.jpg
ORGANIZER;CN="AGTT":MAILTO:secretariat@agtt.ch
END:VEVENT
END:VCALENDAR