BEGIN:VCALENDAR
VERSION:2.0
PRODID:-//FannyDoutaz.ch - ECPv6.15.20//NONSGML v1.0//EN
CALSCALE:GREGORIAN
METHOD:PUBLISH
X-WR-CALNAME:FannyDoutaz.ch
X-ORIGINAL-URL:https://fannydoutaz.ch
X-WR-CALDESC:Évènements pour FannyDoutaz.ch
REFRESH-INTERVAL;VALUE=DURATION:PT1H
X-Robots-Tag:noindex
X-PUBLISHED-TTL:PT1H
BEGIN:VTIMEZONE
TZID:Europe/Zurich
BEGIN:DAYLIGHT
TZOFFSETFROM:+0100
TZOFFSETTO:+0200
TZNAME:CEST
DTSTART:20230326T010000
END:DAYLIGHT
BEGIN:STANDARD
TZOFFSETFROM:+0200
TZOFFSETTO:+0100
TZNAME:CET
DTSTART:20231029T010000
END:STANDARD
BEGIN:DAYLIGHT
TZOFFSETFROM:+0100
TZOFFSETTO:+0200
TZNAME:CEST
DTSTART:20240331T010000
END:DAYLIGHT
BEGIN:STANDARD
TZOFFSETFROM:+0200
TZOFFSETTO:+0100
TZNAME:CET
DTSTART:20241027T010000
END:STANDARD
BEGIN:DAYLIGHT
TZOFFSETFROM:+0100
TZOFFSETTO:+0200
TZNAME:CEST
DTSTART:20250330T010000
END:DAYLIGHT
BEGIN:STANDARD
TZOFFSETFROM:+0200
TZOFFSETTO:+0100
TZNAME:CET
DTSTART:20251026T010000
END:STANDARD
END:VTIMEZONE
BEGIN:VEVENT
DTSTART;VALUE=DATE:20240420
DTEND;VALUE=DATE:20240421
DTSTAMP:20260424T123230
CREATED:20240323T084655Z
LAST-MODIFIED:20240323T084655Z
UID:7798-1713571200-1713657599@fannydoutaz.ch
SUMMARY:Championnat Suisse jeunesse 2024
DESCRIPTION:Invitation-CS-Jeunesse-2023-24
URL:https://fannydoutaz.ch/evenement/championnat-suisse-jeunesse-2024/
LOCATION:Sportzentrum Grien\, Oberer Aareweg 37D\, Lyss\, 3250\, Suisse
CATEGORIES:Compétition
ATTACH;FMTTYPE=image/jpeg:https://fannydoutaz.ch/siteweb/wp-content/uploads/stt-logo-e1701334742472.jpg
ORGANIZER;CN="STT":MAILTO:info@swisstabletennis.ch
END:VEVENT
BEGIN:VEVENT
DTSTART;VALUE=DATE:20240421
DTEND;VALUE=DATE:20240425
DTSTAMP:20260424T123230
CREATED:20240323T082155Z
LAST-MODIFIED:20240323T083035Z
UID:7788-1713657600-1714003199@fannydoutaz.ch
SUMMARY:WTT Youth Contender à Metz (FRA)
DESCRIPTION:21.-24.04.2024 - WTT Youth Contender Metz (FRA) - Girls\nMetz_YC_Prospectus_2024
URL:https://fannydoutaz.ch/evenement/wtt-youth-contender-a-metz-fra/
LOCATION:Complexe sportif Saint Symphorien\, Saint-Symphorien\, Longeville-Lès-Metz\, 57050\, France
CATEGORIES:Compétition
ATTACH;FMTTYPE=image/png:https://fannydoutaz.ch/siteweb/wp-content/uploads/WTT-YOUTH-CONTENDER-METZ-2024.png
ORGANIZER;CN="STT":MAILTO:info@swisstabletennis.ch
END:VEVENT
END:VCALENDAR