BEGIN:VCALENDAR
VERSION:2.0
PRODID:-//FannyDoutaz.ch - ECPv6.15.20//NONSGML v1.0//EN
CALSCALE:GREGORIAN
METHOD:PUBLISH
X-ORIGINAL-URL:https://fannydoutaz.ch
X-WR-CALDESC:Évènements pour FannyDoutaz.ch
REFRESH-INTERVAL;VALUE=DURATION:PT1H
X-Robots-Tag:noindex
X-PUBLISHED-TTL:PT1H
BEGIN:VTIMEZONE
TZID:Europe/Zurich
BEGIN:DAYLIGHT
TZOFFSETFROM:+0100
TZOFFSETTO:+0200
TZNAME:CEST
DTSTART:20170326T010000
END:DAYLIGHT
BEGIN:STANDARD
TZOFFSETFROM:+0200
TZOFFSETTO:+0100
TZNAME:CET
DTSTART:20171029T010000
END:STANDARD
BEGIN:DAYLIGHT
TZOFFSETFROM:+0100
TZOFFSETTO:+0200
TZNAME:CEST
DTSTART:20180325T010000
END:DAYLIGHT
BEGIN:STANDARD
TZOFFSETFROM:+0200
TZOFFSETTO:+0100
TZNAME:CET
DTSTART:20181028T010000
END:STANDARD
BEGIN:DAYLIGHT
TZOFFSETFROM:+0100
TZOFFSETTO:+0200
TZNAME:CEST
DTSTART:20190331T010000
END:DAYLIGHT
BEGIN:STANDARD
TZOFFSETFROM:+0200
TZOFFSETTO:+0100
TZNAME:CET
DTSTART:20191027T010000
END:STANDARD
END:VTIMEZONE
BEGIN:VEVENT
DTSTART;TZID=Europe/Zurich:20180127T160000
DTEND;TZID=Europe/Zurich:20180127T161500
DTSTAMP:20260424T210605
CREATED:20171015T090101Z
LAST-MODIFIED:20171015T090223Z
UID:2275-1517068800-1517069700@fannydoutaz.ch
SUMMARY:Démonstration à Grône
DESCRIPTION:Le CTT Grône organise une grande fête à l’occasion de ses 30 ans d’existence. \nDans ce cadre\, je suis invitée à fournir une démonstration avec mon entraîneur Laurent Langel et Edouard Troeder\, également membre de l’équipe suisse des moins de 13 ans. \nCet événement se déroulera lors des championnats valaisans.
URL:https://fannydoutaz.ch/evenement/demonstration-a-grone/
LOCATION:Salle Recto Verso\, Rue des Maraissettes 28\, Grône\, 3979\, Suisse
CATEGORIES:Démonstration
ATTACH;FMTTYPE=image/jpeg:https://fannydoutaz.ch/siteweb/wp-content/uploads/Le-Nouvelliste-oct.2017.jpg
ORGANIZER;CN="CTT Gr%C3%B4ne":MAILTO:pas.gir.vs@netplus.ch
END:VEVENT
END:VCALENDAR